BEGIN:VCALENDAR
VERSION:2.0
PRODID:-//31292@cuni.cz//NONSGML v1.0//EN
CALSCALE:GREGORIAN
METHOD:PUBLISH
BEGIN:VEVENT
UID:31292@cuni.cz
SUMMARY:Virtual Open Door Days  at the Faculty of Physical Education and Sport
DESCRIPTION:We are pleased to invite you to our Virtual Open Door Days at the Faculty of Physical Education and Sport. This online event is a great opportunity to learn more about study programmes\, meet our teachers and current students\, and explore what studying at CU Sport can offer you.
LOCATION:
DTSTART:20260422T120000Z
DTEND:20260422T130000Z
DTSTAMP:20260421T232534Z
END:VEVENT
END:VCALENDAR