BEGIN:VCALENDAR
VERSION:2.0
PRODID:-//31688@cuni.cz//NONSGML v1.0//EN
CALSCALE:GREGORIAN
METHOD:PUBLISH
BEGIN:VEVENT
UID:31688@cuni.cz
SUMMARY:International středa, mezinárodní Wednesday: Supper & Society
DESCRIPTION:STUDUJICÍ + Ph.D. STUDUJICÍPravidelný seriál akcí je zpět v letním semestru a je otevřený všem našim studujicím – českým i mezinárodním. Akce probehne ve spolupráci se Studentskou Hybernskou v Kampusu Hybernská (E.-1).
LOCATION:
DTSTART:20260401T170000Z
DTEND:20260401T200000Z
DTSTAMP:20260424T204015Z
END:VEVENT
END:VCALENDAR